BEGIN:VCALENDAR
VERSION:2.0
PRODID:-//BEARINGPOINT//NONSGML Event//EN
CALSCALE:GREGORIAN
BEGIN:VEVENT
UID:6e96be832cf8bc6b35a956e8fb66c76a
DTSTAMP:20260421T105427Z
DTSTART:20260512T063000Z
DTEND:20260512T120000Z
SUMMARY:RegInsights Zurich
URL:https://www.regnology.net/fr/ressources/evenements/reginsights-zurich/
LOCATION:SIX ConventionPoint
END:VEVENT
END:VCALENDAR