BEGIN:VCALENDAR
VERSION:2.0
PRODID:-//BEARINGPOINT//NONSGML Event//EN
CALSCALE:GREGORIAN
BEGIN:VEVENT
UID:90e69a6d2ad189b222ac1998abe63aea
DTSTAMP:20260420T161821Z
DTSTART:20250521T110000Z
DTEND:20250521T150000Z
SUMMARY:RegTech Transition Forum | Stockholm
URL:https://www.regnology.net/en/resources/events/regtech-transition-forum-stockholm/
LOCATION:Google Stockholm
END:VEVENT
END:VCALENDAR