BEGIN:VCALENDAR
VERSION:2.0
PRODID:-//BEARINGPOINT//NONSGML Event//EN
CALSCALE:GREGORIAN
BEGIN:VEVENT
UID:9df81829c4ebc9c427b9afe0438dce5a
DTSTAMP:20260421T120034Z
DTSTART:20250501T063000Z
DTEND:20250501T103000Z
SUMMARY:RegTech Transition Forum | Dublin
URL:https://www.regnology.net/de/resources/veranstaltungen/regtech-transition-forum-dublin/
LOCATION:The Foundry, Google Building Gordon House
END:VEVENT
END:VCALENDAR