BEGIN:VCALENDAR
VERSION:2.0
PRODID:-//BEARINGPOINT//NONSGML Event//EN
CALSCALE:GREGORIAN
BEGIN:VEVENT
UID:907edb0aa6986220dbffb79a788596ee
DTSTAMP:20260421T104924Z
DTSTART:20220919T130000Z
DTEND:20220919T140000Z
SUMMARY:Webinar: Get prepared for EMIR Refit
URL:https://www.regnology.net/de/resources/einblicke/webinare/webinar-get-prepared-for-emir-refit/
END:VEVENT
END:VCALENDAR